BEGIN:VCALENDAR
VERSION:2.0
PRODID:-//［広島市中区］イルチブレインヨガ 広島スタジオ | 男性もOK 丹田呼吸 瞑想 ブレイン体操  - ECPv6.15.20//NONSGML v1.0//EN
CALSCALE:GREGORIAN
METHOD:PUBLISH
X-ORIGINAL-URL:https://ilchibrainyoga-hiroshima.com
X-WR-CALDESC:［広島市中区］イルチブレインヨガ 広島スタジオ | 男性もOK 丹田呼吸 瞑想 ブレイン体操  のイベント
REFRESH-INTERVAL;VALUE=DURATION:PT1H
X-Robots-Tag:noindex
X-PUBLISHED-TTL:PT1H
BEGIN:VTIMEZONE
TZID:Asia/Tokyo
BEGIN:STANDARD
TZOFFSETFROM:+0900
TZOFFSETTO:+0900
TZNAME:JST
DTSTART:20240101T000000
END:STANDARD
END:VTIMEZONE
BEGIN:VEVENT
DTSTART;TZID=Asia/Tokyo:20250304T160000
DTEND;TZID=Asia/Tokyo:20250330T180000
DTSTAMP:20260420T091843
CREATED:20250302T072722Z
LAST-MODIFIED:20250302T072722Z
UID:2311-1741104000-1743357600@ilchibrainyoga-hiroshima.com
SUMMARY:オーラ撮影＆リーディング
DESCRIPTION:あなたのオーラは何色でしょう？\nオーラでご自分のエネルギー状態を知ることができます。\n体と心のバランスをチェックして、なりたい自分にチェンジ！ \n開催日:毎日開催(月曜定休)\n時間: 16:00〜18:00\n会場名:イルチブレインヨガ広島スタジオ\n会場住所:広島市中区大手町3-1-7\n参加費:1\,000円\n問合せ電話:082-249-1637\nトレーナー:三嶋美和子 \n\nLINEからのお申し込みはこちら⇒https://lin.ee/sqfZmdE \n\n\n  \n\n\n\n\n\n \n体験ご希望日時\n		(必須)　※ご注意：月曜日は定休日です\n		\n \n—以下から選択してください—10111213141516171819時 —以下から選択してください—001020304050分 ～ のクラス\n \nお名前\n		 (必須)\n		\n \n\n \nメールアドレス\n		 (必須)\n		\n \n\n \nお電話番号（携帯可）\n		 (必須)\n		\n \n\n \nこちらのスタジオを何でお知りになりましたか？\n		 (必須)\n		\n \nチラシ看板書籍雑誌紹介Yahoo検索Google検索口コミその他Webサイト\n \nご関心があること、習得したいこと（複数可）\n \n肩こり腰痛の改善自然治癒力アップ集中力アップダイエット体質改善ストレス解消丹田強化呼吸法瞑想法その他\n \n備考欄\n \n\n \n\n\n \n\n Δ \n\n\n\n株式会社DAHN WORLD JAPAN　ダンワールドジャパン
URL:https://ilchibrainyoga-hiroshima.com/event/hiroshima-35/
LOCATION:イルチブレインヨガ広島スタジオ\, 広島県広島市中区 3丁目1−7　ユナイテットMKビル 201
ATTACH;FMTTYPE=image/jpeg:https://ilchibrainyoga-hiroshima.com/wp-content/uploads/2024/10/ora.jpg
END:VEVENT
END:VCALENDAR